BEGIN:VCALENDAR
TZID:America/New_York
BEGIN:VEVENT
CLASS:PUBLIC
CREATED:20260422T072618
DESCRIPTION:<strong>Tactical de-escalation</strong> is a method used by law enforcement and\nfirst responders to defuse potentially violent or high-risk situations\nwithout the use of force. It focuses on <strong>communication, calming</strong>\n<strong>techniques, and non-confrontational approaches</strong> to reduce the\nlikelihood of escalation. The goal is to gain compliance or\ncooperation from individuals in crisis while ensuring the safety of\nall involved parties. This Course includes lecture, discussion, video\nanalysis, and scenario-based training.\n\n<strong>Course Highlights</strong>\n• Define tactical de-escalation and discuss current models and trends.\n• Apply the priorities of life model to decision-making during critical incidents.\n• Utilize communication, positioning, and timing to enhance decisionmaking.\n• Employ principles of ICAT and de-escalation in high-stress situations.\n• Demonstrate effective decision-making through scenario-based application.\n• The Priorities of Life and Decision-Making Under Stress
DTEND:20251107T170000Z
DTSTAMP:20260422T072618
DTSTART:20251107T083000
LAST-MODIFIED:20091109T101015
LOCATION:Indian Harbour Beach Police Department, 1835 S Patrick Drive , , FL, 32937
SUMMARY;LANGUAGE=en-us:Tactical De-escalation for Law Enforcement
BEGIN:VALARM
TRIGGER:-PT1440M
ACTION:DISPLAY
DESCRIPTION:Reminder
END:VALARM
END:VEVENT
END:VCALENDAR
