BEGIN:VCALENDAR
TZID:America/New_York
BEGIN:VEVENT
CLASS:PUBLIC
CREATED:20260420T105304
DESCRIPTION:This comprehensive course is for internal affairs investigators and\nsupervisors. Additionally, this course would be beneficial for those who hold\nan administrative role who wish to have a better understanding of how\ninternal affairs investigations should be conducted and managed. This course provides an outline and step-by-step processes to conduct internal affairs investigations professionally, thoroughly, legally, objectively, and efficiently.  This 3-Day training is equivalent to the 5-day FDLE course.\n\n<strong>Course Highlights:</strong>\n<ul>\n 	<li>Internal Affairs policies, rules, and procedures</li>\n 	<li>Investigation of citizen complaints; intake and processing</li>\n 	<li>Legal issues and case law</li>\n 	<li>Interviewing complainants, witnesses, and accused employees.</li>\n 	<li>Case file preparation and retention</li>\n 	<li>Early intervention systems</li>\n 	<li>Sexual harassment and hostile workplace investigations</li>\n 	<li>Officer-involved shootings and in-custody deaths</li>\n 	<li>Criminal vs. administrative investigations</li>\n 	<li>Florida Law Enforcement Officer’s Bill of Rights</li>\n 	<li>Background investigations</li>\n</ul>
DTEND:20251106T170000Z
DTSTAMP:20260420T105304
DTSTART:20251104T083000
LAST-MODIFIED:20091109T101015
LOCATION:Daytona State College, 1770 Technology Blvd. , , FL, 
SUMMARY;LANGUAGE=en-us:Internal Affairs Investigations
BEGIN:VALARM
TRIGGER:-PT1440M
ACTION:DISPLAY
DESCRIPTION:Reminder
END:VALARM
END:VEVENT
END:VCALENDAR
