BEGIN:VCALENDAR
TZID:America/New_York
BEGIN:VEVENT
CLASS:PUBLIC
CREATED:20260425T101050
DESCRIPTION:This course provides the fundamentals of fraud and financial crimes\ninvestigations and the tools needed to identify and investigate the most\ncommon financial crimes being committed today. Topics covered in this\n3-day training include identity theft, checks frauds, credit cards, social\nengineering, RICO investigations, exploitation of the elderly, contractor\nfrauds, embezzlements, money laundering and cryptocurrency overview\nand how it is being used in financial crimes. The student will learn how\nto work these cases and organize them for a successful prosecution. This\ncourse is designed for Detectives, Patrol Officers & Supervisors.\n<strong>Course Highlights</strong>\n• Overview of Fraud/Financial Crimes\n• Common Terms and Definitions\n• Current Fraud Trends/Crypto\n• Check Frauds\n• Credit Cards Frauds\n• Social Engineering\n• RICO\n• Exploitation of Elderly Frauds\n• Telephone Scams\n• Embezzlements\n• Contractor Frauds\n• Money Laundering\n• Organized Retail Crime
DTEND:20250115T170000Z
DTSTAMP:20260425T101050
DTSTART:20250113T083000
LAST-MODIFIED:20091109T101015
LOCATION:Winter Park Police Department, 500 N. Virginia Avenue, , FL, 32789
SUMMARY;LANGUAGE=en-us:Financial Crimes & Fraud Investigations 
BEGIN:VALARM
TRIGGER:-PT1440M
ACTION:DISPLAY
DESCRIPTION:Reminder
END:VALARM
END:VEVENT
END:VCALENDAR
